BEGIN:VCALENDAR
VERSION:2.0
PRODID:-//Edlio Inc//Edlio Calendar//EN
CALSCALE:GREGORIAN
METHOD:PUBLISH
X-WR-CALNAME:Baldwin Park Unified School District - Upcoming Events
X-ORIGINAL-URL:https://www.bpusd.net
X-WR-CALDESC:Events calendar for www.bpusd.net
X-WR-TIMEZONE:US/Pacific
REFRESH-INTERVAL;VALUE=DURATION:PT1H
X-Robots-Tag:noindex
X-PUBLISHED-TTL:PT1H
BEGIN:VTIMEZONE
TZID:US/Pacific
BEGIN:STANDARD
TZOFFSETFROM:-0700
TZOFFSETTO:-0800
DTSTART:20071104T020000
RRULE:FREQ=YEARLY;BYMONTH=11;BYDAY=1SU
END:STANDARD
BEGIN:DAYLIGHT
TZOFFSETFROM:-0800
TZOFFSETTO:-0700
DTSTART:20070311T020000
RRULE:FREQ=YEARLY;BYMONTH=3;BYDAY=2SU
END:DAYLIGHT
END:VTIMEZONE
BEGIN:VTIMEZONE
TZID:US/East-Indiana
BEGIN:STANDARD
TZOFFSETFROM:-0500
TZOFFSETTO:-0500
DTSTART:19701025T020000
END:STANDARD
END:VTIMEZONE
BEGIN:VTIMEZONE
TZID:US/Eastern
BEGIN:STANDARD
TZOFFSETFROM:-0400
TZOFFSETTO:-0500
DTSTART:19701025T020000
RRULE:FREQ=YEARLY;BYMONTH=10;BYDAY=-1SU;UNTIL=20070311T020000
END:STANDARD
BEGIN:STANDARD
TZOFFSETFROM:-0400
TZOFFSETTO:-0500
DTSTART:20071104T020000
RRULE:FREQ=YEARLY;BYMONTH=11;BYDAY=1SU
END:STANDARD
BEGIN:DAYLIGHT
TZOFFSETFROM:-0500
TZOFFSETTO:-0400
DTSTART:19870405T020000
RRULE:FREQ=YEARLY;BYMONTH=4;BYDAY=1SU;UNTIL=20061029T020000
END:DAYLIGHT
BEGIN:DAYLIGHT
TZOFFSETFROM:-0500
TZOFFSETTO:-0400
DTSTART:20070311T020000
RRULE:FREQ=YEARLY;BYMONTH=3;BYDAY=2SU
END:DAYLIGHT
END:VTIMEZONE
BEGIN:VTIMEZONE
TZID:US/Michigan
BEGIN:STANDARD
TZOFFSETFROM:-0400
TZOFFSETTO:-0500
DTSTART:19701025T020000
RRULE:FREQ=YEARLY;BYMONTH=10;BYDAY=-1SU;UNTIL=20070311T020000
END:STANDARD
BEGIN:STANDARD
TZOFFSETFROM:-0400
TZOFFSETTO:-0500
DTSTART:20071104T020000
RRULE:FREQ=YEARLY;BYMONTH=11;BYDAY=1SU
END:STANDARD
BEGIN:DAYLIGHT
TZOFFSETFROM:-0500
TZOFFSETTO:-0400
DTSTART:19870405T020000
RRULE:FREQ=YEARLY;BYMONTH=4;BYDAY=1SU;UNTIL=20061029T020000
END:DAYLIGHT
BEGIN:DAYLIGHT
TZOFFSETFROM:-0500
TZOFFSETTO:-0400
DTSTART:20070311T020000
RRULE:FREQ=YEARLY;BYMONTH=3;BYDAY=2SU
END:DAYLIGHT
END:VTIMEZONE
BEGIN:VTIMEZONE
TZID:US/Central
BEGIN:STANDARD
TZOFFSETFROM:-0500
TZOFFSETTO:-0600
DTSTART:19701025T020000
RRULE:FREQ=YEARLY;BYMONTH=10;BYDAY=-1SU;UNTIL=20070311T020000
END:STANDARD
BEGIN:STANDARD
TZOFFSETFROM:-0500
TZOFFSETTO:-0600
DTSTART:20071104T020000
RRULE:FREQ=YEARLY;BYMONTH=11;BYDAY=1SU
END:STANDARD
BEGIN:DAYLIGHT
TZOFFSETFROM:-0600
TZOFFSETTO:-0500
DTSTART:19870405T020000
RRULE:FREQ=YEARLY;BYMONTH=4;BYDAY=1SU;UNTIL=20061029T020000
END:DAYLIGHT
BEGIN:DAYLIGHT
TZOFFSETFROM:-0600
TZOFFSETTO:-0500
DTSTART:20070311T020000
RRULE:FREQ=YEARLY;BYMONTH=3;BYDAY=2SU
END:DAYLIGHT
END:VTIMEZONE
BEGIN:VTIMEZONE
TZID:US/Mountain
BEGIN:STANDARD
TZOFFSETFROM:-0600
TZOFFSETTO:-0700
DTSTART:19701025T020000
RRULE:FREQ=YEARLY;BYMONTH=10;BYDAY=-1SU;UNTIL=20070311T020000
END:STANDARD
BEGIN:STANDARD
TZOFFSETFROM:-0600
TZOFFSETTO:-0700
DTSTART:20071104T020000
RRULE:FREQ=YEARLY;BYMONTH=11;BYDAY=1SU
END:STANDARD
BEGIN:DAYLIGHT
TZOFFSETFROM:-0700
TZOFFSETTO:-0600
DTSTART:19870405T020000
RRULE:FREQ=YEARLY;BYMONTH=4;BYDAY=1SU;UNTIL=20061029T020000
END:DAYLIGHT
BEGIN:DAYLIGHT
TZOFFSETFROM:-0700
TZOFFSETTO:-0600
DTSTART:20070311T020000
RRULE:FREQ=YEARLY;BYMONTH=3;BYDAY=2SU
END:DAYLIGHT
END:VTIMEZONE
BEGIN:VTIMEZONE
TZID:US/Arizona
BEGIN:STANDARD
TZOFFSETFROM:-0700
TZOFFSETTO:-0700
DTSTART:19701025T020000
END:STANDARD
END:VTIMEZONE
BEGIN:VTIMEZONE
TZID:US/Pacific
BEGIN:STANDARD
TZOFFSETFROM:-0700
TZOFFSETTO:-0800
DTSTART:19701025T020000
RRULE:FREQ=YEARLY;BYMONTH=10;BYDAY=-1SU;UNTIL=20070311T020000
END:STANDARD
BEGIN:STANDARD
TZOFFSETFROM:-0700
TZOFFSETTO:-0800
DTSTART:20071104T020000
RRULE:FREQ=YEARLY;BYMONTH=11;BYDAY=1SU
END:STANDARD
BEGIN:DAYLIGHT
TZOFFSETFROM:-0800
TZOFFSETTO:-0700
DTSTART:19870405T020000
RRULE:FREQ=YEARLY;BYMONTH=4;BYDAY=1SU;UNTIL=20061029T020000
END:DAYLIGHT
BEGIN:DAYLIGHT
TZOFFSETFROM:-0800
TZOFFSETTO:-0700
DTSTART:20070311T020000
RRULE:FREQ=YEARLY;BYMONTH=3;BYDAY=2SU
END:DAYLIGHT
END:VTIMEZONE
BEGIN:VTIMEZONE
TZID:US/Alaska
BEGIN:STANDARD
TZOFFSETFROM:-0800
TZOFFSETTO:-0900
DTSTART:19701025T020000
RRULE:FREQ=YEARLY;BYMONTH=10;BYDAY=-1SU;UNTIL=20070311T020000
END:STANDARD
BEGIN:STANDARD
TZOFFSETFROM:-0800
TZOFFSETTO:-0900
DTSTART:20071104T020000
RRULE:FREQ=YEARLY;BYMONTH=11;BYDAY=1SU
END:STANDARD
BEGIN:DAYLIGHT
TZOFFSETFROM:-0900
TZOFFSETTO:-0800
DTSTART:19870405T020000
RRULE:FREQ=YEARLY;BYMONTH=4;BYDAY=1SU;UNTIL=20061029T020000
END:DAYLIGHT
BEGIN:DAYLIGHT
TZOFFSETFROM:-0900
TZOFFSETTO:-0800
DTSTART:20070311T020000
RRULE:FREQ=YEARLY;BYMONTH=3;BYDAY=2SU
END:DAYLIGHT
END:VTIMEZONE
BEGIN:VTIMEZONE
TZID:US/Hawaii
BEGIN:STANDARD
TZOFFSETFROM:-1000
TZOFFSETTO:-1000
DTSTART:19701025T020000
END:STANDARD
END:VTIMEZONE
BEGIN:VTIMEZONE
TZID:US/Aleutian
BEGIN:STANDARD
TZOFFSETFROM:-1000
TZOFFSETTO:-1000
DTSTART:19701025T020000
END:STANDARD
END:VTIMEZONE
BEGIN:VTIMEZONE
TZID:US/Samoa
BEGIN:STANDARD
TZOFFSETFROM:-1100
TZOFFSETTO:-1100
DTSTART:19701025T020000
END:STANDARD
END:VTIMEZONE
BEGIN:VEVENT
UID:35935110@www.bpusd.net#20260209
SEQUENCE:0
CREATED:20260126T223704Z
LAST-MODIFIED:20260126T223704Z
DTSTART;VALUE=DATE:20260209
DURATION:P1D
SUMMARY:Lincoln’s Day (No School)
CATEGORIES:Upcoming Events
URL:https://www.bpusd.net/apps/events/35935110/
ORGANIZER;CN="Edlio Calendar":MAILTO:noreply@www.bpusd.net
DTSTAMP:20260420T122849Z
END:VEVENT
BEGIN:VEVENT
UID:35935113@www.bpusd.net#20260403
SEQUENCE:0
CREATED:20260327T013704Z
LAST-MODIFIED:20260327T013704Z
DTSTART;VALUE=DATE:20260403
DURATION:P1D
SUMMARY:Local Holiday (No School\, Observed)
CATEGORIES:Upcoming Events
URL:https://www.bpusd.net/apps/events/35935113/
ORGANIZER;CN="Edlio Calendar":MAILTO:noreply@www.bpusd.net
DTSTAMP:20260420T122849Z
END:VEVENT
BEGIN:VEVENT
UID:35656175@www.bpusd.net#20260119
SEQUENCE:0
CREATED:20251201T223705Z
LAST-MODIFIED:20251201T223705Z
DTSTART;VALUE=DATE:20260119
DURATION:P1D
SUMMARY:Martin Luther King Jr. Day (No School)
CATEGORIES:Upcoming Events
URL:https://www.bpusd.net/apps/events/35656175/
ORGANIZER;CN="Edlio Calendar":MAILTO:noreply@www.bpusd.net
DTSTAMP:20260420T122849Z
END:VEVENT
BEGIN:VEVENT
UID:35935115@www.bpusd.net#20260525
SEQUENCE:0
CREATED:20260126T223704Z
LAST-MODIFIED:20260126T223704Z
DTSTART;VALUE=DATE:20260525
DURATION:P1D
SUMMARY:Memorial Day (No School)
CATEGORIES:Upcoming Events
URL:https://www.bpusd.net/apps/events/35935115/
ORGANIZER;CN="Edlio Calendar":MAILTO:noreply@www.bpusd.net
DTSTAMP:20260420T122849Z
END:VEVENT
BEGIN:VEVENT
UID:35935112@www.bpusd.net#20260327
SEQUENCE:0
CREATED:20260126T223704Z
LAST-MODIFIED:20260126T223704Z
DTSTART;VALUE=DATE:20260327
DURATION:P1D
SUMMARY:No School for Students (Staff Professional Development Day)
CATEGORIES:Upcoming Events
URL:https://www.bpusd.net/apps/events/35935112/
ORGANIZER;CN="Edlio Calendar":MAILTO:noreply@www.bpusd.net
DTSTAMP:20260420T122849Z
END:VEVENT
BEGIN:VEVENT
UID:35935111@www.bpusd.net#20260216
SEQUENCE:0
CREATED:20260126T223704Z
LAST-MODIFIED:20260126T223704Z
DTSTART;VALUE=DATE:20260216
DURATION:P1D
SUMMARY:Presidents Day (No School)
CATEGORIES:Upcoming Events
URL:https://www.bpusd.net/apps/events/35935111/
ORGANIZER;CN="Edlio Calendar":MAILTO:noreply@www.bpusd.net
DTSTAMP:20260420T122849Z
END:VEVENT
BEGIN:VEVENT
UID:35935114@www.bpusd.net#20260406
SEQUENCE:0
CREATED:20260126T223704Z
LAST-MODIFIED:20260126T223704Z
DTSTART;VALUE=DATE:20260406
DTEND;TZID=US/Pacific:20260410T235959
SUMMARY:Spring Break (No School)
CATEGORIES:Upcoming Events
URL:https://www.bpusd.net/apps/events/35935114/
ORGANIZER;CN="Edlio Calendar":MAILTO:noreply@www.bpusd.net
DTSTAMP:20260420T122849Z
END:VEVENT
BEGIN:VEVENT
UID:35442808@www.bpusd.net#20251111
SEQUENCE:0
CREATED:20251120T213706Z
LAST-MODIFIED:20251120T213706Z
DTSTART;VALUE=DATE:20251111
DURATION:P1D
SUMMARY:Veterans Day (No School)
CATEGORIES:Upcoming Events
URL:https://www.bpusd.net/apps/events/35442808/
ORGANIZER;CN="Edlio Calendar":MAILTO:noreply@www.bpusd.net
DTSTAMP:20260420T122849Z
END:VEVENT
BEGIN:VEVENT
UID:35284783@www.bpusd.net#20251012
SEQUENCE:0
CREATED:20251120T213706Z
LAST-MODIFIED:20251120T213706Z
DTSTART;VALUE=DATE:20251012
DTEND;TZID=US/Pacific:20251018T235959
SUMMARY:Week of the School Administrator
CATEGORIES:Upcoming Events
URL:https://www.bpusd.net/apps/events/35284783/
ORGANIZER;CN="Edlio Calendar":MAILTO:noreply@www.bpusd.net
DTSTAMP:20260420T122849Z
END:VEVENT
BEGIN:VEVENT
UID:35656174@www.bpusd.net#20251222
SEQUENCE:0
CREATED:20251201T223705Z
LAST-MODIFIED:20251201T223705Z
DTSTART;VALUE=DATE:20251222
DTEND;TZID=US/Pacific:20260105T235959
SUMMARY:Winter Break Holiday (No School)
CATEGORIES:Upcoming Events
URL:https://www.bpusd.net/apps/events/35656174/
ORGANIZER;CN="Edlio Calendar":MAILTO:noreply@www.bpusd.net
DTSTAMP:20260420T122849Z
END:VEVENT
BEGIN:VEVENT
UID:35284782@www.bpusd.net#20251001
SEQUENCE:0
CREATED:20251120T213706Z
LAST-MODIFIED:20251120T213706Z
DTSTART;TZID=US/Pacific:20251001T000000
DTEND;TZID=US/Pacific:20251001T010000
SUMMARY:Down Syndrome Awareness Month
CATEGORIES:Upcoming Events
URL:https://www.bpusd.net/apps/events/35284782/
ORGANIZER;CN="Edlio Calendar":MAILTO:noreply@www.bpusd.net
DTSTAMP:20260420T122849Z
END:VEVENT
BEGIN:VEVENT
UID:30941146@www.bpusd.net#20250927
SEQUENCE:0
CREATED:20251120T213706Z
LAST-MODIFIED:20251120T213706Z
DTSTART;TZID=US/Pacific:20250927T090000
DTEND;TZID=US/Pacific:20250927T130000
SUMMARY:BPUSD College & Career Fair
CATEGORIES:Upcoming Events
URL:https://www.bpusd.net/apps/events/30941146/
ORGANIZER;CN="Edlio Calendar":MAILTO:noreply@www.bpusd.net
DTSTAMP:20260420T122849Z
END:VEVENT
BEGIN:VEVENT
UID:35935797@www.bpusd.net#20260328
SEQUENCE:0
CREATED:20260304T023705Z
LAST-MODIFIED:20260304T023705Z
DTSTART;TZID=US/Pacific:20260328T100000
DTEND;TZID=US/Pacific:20260328T130000
SUMMARY:BPUSD Showcase Event
CATEGORIES:Upcoming Events
DESCRIPTION:Baldwin Park Unified School District is excited to announce the
  return of the BPUSD Showcase\, a free community event designed to celebra
 te student learning\, innovation\, and opportunity across the District.The
  BPUSD Showcase will take place on Saturday\, March 28\, 2026\, from 10 a.
 m. to 1 p.m. at\n<a href=' https://www.bpusd.net/apps/events/35935797/'>Re
 ad more</a>
URL:https://www.bpusd.net/apps/events/35935797/
ORGANIZER;CN="Edlio Calendar":MAILTO:noreply@www.bpusd.net
DTSTAMP:20260420T122849Z
END:VEVENT
BEGIN:VEVENT
UID:35300334@www.bpusd.net#20251015
SEQUENCE:0
CREATED:20251120T213706Z
LAST-MODIFIED:20251120T213706Z
DTSTART;TZID=US/Pacific:20251015T101500
DTEND;TZID=US/Pacific:20251015T111500
SUMMARY:To be rescheduled: CA Shakeout Earthquake Drill
CATEGORIES:Upcoming Events
DESCRIPTION:Baldwin Park Unified will participate in the annual Great Calif
 ornia ShakeOut a day early to allow full participation from all schools an
 d staff.  Originally scheduled for October 15\, ​we will be rescheduling t
 his drill for a later date and time due to weather and outdoor conditions.
  Stay tuned!The\n<a href=' https://www.bpusd.net/apps/events/35300334/'>Re
 ad more</a>
URL:https://www.bpusd.net/apps/events/35300334/
ORGANIZER;CN="Edlio Calendar":MAILTO:noreply@www.bpusd.net
DTSTAMP:20260420T122849Z
END:VEVENT
BEGIN:VEVENT
UID:35284780@www.bpusd.net#20251018
SEQUENCE:0
CREATED:20251120T213706Z
LAST-MODIFIED:20251120T213706Z
DTSTART;TZID=US/Pacific:20251018T121500
DTEND;TZID=US/Pacific:20251018T200000
SUMMARY:BPHS FIELD TOURNAMENT
CATEGORIES:Upcoming Events
DESCRIPTION:Baldwin Park High School Field Tournament Band CompetitionBegin
 s at 12:15pm\, paid entry required​Ted K. Gorrell Stadium3900 Puente Ave\,
  Baldwin Park\, CA 91706 \n<a href=' https://www.bpusd.net/apps/events/352
 84780/'>Read more</a>
URL:https://www.bpusd.net/apps/events/35284780/
ORGANIZER;CN="Edlio Calendar":MAILTO:noreply@www.bpusd.net
DTSTAMP:20260420T122849Z
END:VEVENT
BEGIN:VEVENT
UID:35284777@www.bpusd.net#20251106
SEQUENCE:0
CREATED:20251120T213706Z
LAST-MODIFIED:20251120T213706Z
DTSTART;TZID=US/Pacific:20251106T160000
DTEND;TZID=US/Pacific:20251106T190000
SUMMARY:BPACE Open House Event
CATEGORIES:Upcoming Events
URL:https://www.bpusd.net/apps/events/35284777/
ORGANIZER;CN="Edlio Calendar":MAILTO:noreply@www.bpusd.net
DTSTAMP:20260420T122849Z
END:VEVENT
BEGIN:VEVENT
UID:35442807@www.bpusd.net#20251030
SEQUENCE:0
CREATED:20251120T213706Z
LAST-MODIFIED:20251120T213706Z
DTSTART;TZID=US/Pacific:20251030T160000
DTEND;TZID=US/Pacific:20251030T200000
SUMMARY:Day of the Dead Celebration hosted by SVHS
CATEGORIES:Upcoming Events
URL:https://www.bpusd.net/apps/events/35442807/
ORGANIZER;CN="Edlio Calendar":MAILTO:noreply@www.bpusd.net
DTSTAMP:20260420T122849Z
END:VEVENT
BEGIN:VEVENT
UID:38765545@www.bpusd.net#20260331
SEQUENCE:0
CREATED:20260330T193704Z
LAST-MODIFIED:20260330T193704Z
DTSTART;TZID=US/Pacific:20260331T160000
DTEND;TZID=US/Pacific:20260331T170000
SUMMARY:Special Meeting of the Board of Education
CATEGORIES:Upcoming Events
DESCRIPTION:Tuesday\, March 31\, 2026\, @ 4:00 PM Closed Session/Open Sessi
 onSpecial Meeting <br>District Administration Center<br>3699 N. Holly Aven
 ue\, Baldwin Park\, CA 91706<br>\n<a href=' https://www.bpusd.net/apps/eve
 nts/38765545/'>Read more</a>
URL:https://www.bpusd.net/apps/events/38765545/
ORGANIZER;CN="Edlio Calendar":MAILTO:noreply@www.bpusd.net
DTSTAMP:20260420T122849Z
END:VEVENT
BEGIN:VEVENT
UID:35284776@www.bpusd.net#20251029
SEQUENCE:0
CREATED:20251120T213706Z
LAST-MODIFIED:20251120T213706Z
DTSTART;TZID=US/Pacific:20251029T170000
DTEND;TZID=US/Pacific:20251029T210000
SUMMARY:Dia de Los Muertos hosted by BPHS
CATEGORIES:Upcoming Events
URL:https://www.bpusd.net/apps/events/35284776/
ORGANIZER;CN="Edlio Calendar":MAILTO:noreply@www.bpusd.net
DTSTAMP:20260420T122849Z
END:VEVENT
BEGIN:VEVENT
UID:33395869@www.bpusd.net#20251023
SEQUENCE:0
CREATED:20251120T213706Z
LAST-MODIFIED:20251120T213706Z
DTSTART;TZID=US/Pacific:20251023T170000
DTEND;TZID=US/Pacific:20251023T180000
SUMMARY:Trick or Treat with the Cops
CATEGORIES:Upcoming Events
URL:https://www.bpusd.net/apps/events/33395869/
ORGANIZER;CN="Edlio Calendar":MAILTO:noreply@www.bpusd.net
DTSTAMP:20260420T122849Z
END:VEVENT
BEGIN:VEVENT
UID:35387663@www.bpusd.net#20251021
SEQUENCE:0
CREATED:20251120T213706Z
LAST-MODIFIED:20251120T213706Z
DTSTART;TZID=US/Pacific:20251021T170000
DTEND;TZID=US/Pacific:20251021T180000
SUMMARY:Trunk or Treat hosted by SVHS
CATEGORIES:Upcoming Events
URL:https://www.bpusd.net/apps/events/35387663/
ORGANIZER;CN="Edlio Calendar":MAILTO:noreply@www.bpusd.net
DTSTAMP:20260420T122849Z
END:VEVENT
BEGIN:VEVENT
UID:35284774@www.bpusd.net#20251014
SEQUENCE:0
CREATED:20251120T213706Z
LAST-MODIFIED:20251120T213706Z
DTSTART;TZID=US/Pacific:20251014T180000
DTEND;TZID=US/Pacific:20251014T190000
SUMMARY:Board of Education Meeting
CATEGORIES:Upcoming Events
DESCRIPTION:Tuesday\, October 14\, 2025 @ 4:30 PM Closed Session / 6:00 PM 
 Open Session <br>District Administration Center<br>3699 N. Holly Avenue\, 
 Baldwin Park\, CA 91706<br>BPUSD.NET \n<a href=' https://www.bpusd.net/app
 s/events/35284774/'>Read more</a>
URL:https://www.bpusd.net/apps/events/35284774/
ORGANIZER;CN="Edlio Calendar":MAILTO:noreply@www.bpusd.net
DTSTAMP:20260420T122849Z
END:VEVENT
BEGIN:VEVENT
UID:35284775@www.bpusd.net#20251028
SEQUENCE:0
CREATED:20251120T213706Z
LAST-MODIFIED:20251120T213706Z
DTSTART;TZID=US/Pacific:20251028T180000
DTEND;TZID=US/Pacific:20251028T190000
SUMMARY:Board of Education Meeting
CATEGORIES:Upcoming Events
DESCRIPTION:Tuesday\, October 28\, 2025 @ 5:00 PM Closed Session / 6:00 PM 
 Open Session <br>District Administration Center<br>3699 N. Holly Avenue\, 
 Baldwin Park\, CA 91706<br>Bpusd.net<br>\n<a href=' https://www.bpusd.net/
 apps/events/35284775/'>Read more</a>
URL:https://www.bpusd.net/apps/events/35284775/
ORGANIZER;CN="Edlio Calendar":MAILTO:noreply@www.bpusd.net
DTSTAMP:20260420T122849Z
END:VEVENT
BEGIN:VEVENT
UID:35562964@www.bpusd.net#20251118
SEQUENCE:0
CREATED:20251120T213706Z
LAST-MODIFIED:20251120T213706Z
DTSTART;TZID=US/Pacific:20251118T180000
DTEND;TZID=US/Pacific:20251118T190000
SUMMARY:Board of Education Meeting
CATEGORIES:Upcoming Events
DESCRIPTION:MEETING OF THE BOARD OF EDUCATION: Tuesday\, November 18\, 2025
  @ 4:30 PM Closed Session / 6:00 PM Open Session <br>District Administrati
 on Center<br>3699 N. Holly Avenue\, Baldwin Park\, CA 91706<br> Agenda and
  Info: https://www.bpusd.net/apps/pages/BoardMeetings \n<a href=' https://
 www.bpusd.net/apps/events/35562964/'>Read more</a>
URL:https://www.bpusd.net/apps/events/35562964/
ORGANIZER;CN="Edlio Calendar":MAILTO:noreply@www.bpusd.net
DTSTAMP:20260420T122849Z
END:VEVENT
BEGIN:VEVENT
UID:36659506@www.bpusd.net#20260310
SEQUENCE:0
CREATED:20260306T233705Z
LAST-MODIFIED:20260306T233705Z
DTSTART;TZID=US/Pacific:20260310T180000
DTEND;TZID=US/Pacific:20260310T190000
SUMMARY:Board of Education Meeting
CATEGORIES:Upcoming Events
URL:https://www.bpusd.net/apps/events/36659506/
ORGANIZER;CN="Edlio Calendar":MAILTO:noreply@www.bpusd.net
DTSTAMP:20260420T122849Z
END:VEVENT
BEGIN:VEVENT
UID:36659507@www.bpusd.net#20260324
SEQUENCE:0
CREATED:20260306T233705Z
LAST-MODIFIED:20260306T233705Z
DTSTART;TZID=US/Pacific:20260324T180000
DTEND;TZID=US/Pacific:20260324T190000
SUMMARY:Board of Education Meeting
CATEGORIES:Upcoming Events
URL:https://www.bpusd.net/apps/events/36659507/
ORGANIZER;CN="Edlio Calendar":MAILTO:noreply@www.bpusd.net
DTSTAMP:20260420T122849Z
END:VEVENT
BEGIN:VEVENT
UID:35656173@www.bpusd.net#20251209
SEQUENCE:0
CREATED:20251208T163704Z
LAST-MODIFIED:20251208T163704Z
DTSTART;TZID=US/Pacific:20251209T180000
DTEND;TZID=US/Pacific:20251209T190000
SUMMARY:ORGANIZATIONAL AND REGULAR MEETING OF THE BOARD OF EDUCATION
CATEGORIES:Upcoming Events
DESCRIPTION:Tuesday\, December 9\, 2025 @4:30 PM Closed Session / 6:00 PM O
 pen Session Organizational and Regular MeetingDistrict Administration Cent
 er3699 N. Holly Avenue\, Baldwin Park\, CA 91706https://www.bpusd.net/apps
 /pages/BoardMeetings\n<a href=' https://www.bpusd.net/apps/events/35656173
 /'>Read more</a>
URL:https://www.bpusd.net/apps/events/35656173/
ORGANIZER;CN="Edlio Calendar":MAILTO:noreply@www.bpusd.net
DTSTAMP:20260420T122849Z
END:VEVENT
BEGIN:VEVENT
UID:35656176@www.bpusd.net#20260120
SEQUENCE:0
CREATED:20260110T033704Z
LAST-MODIFIED:20260110T033704Z
DTSTART;TZID=US/Pacific:20260120T180000
DTEND;TZID=US/Pacific:20260120T190000
SUMMARY:REGULAR MEETING OF THE BOARD OF EDUCATION
CATEGORIES:Upcoming Events
DESCRIPTION:Tuesday\, January 20\, 2026 @ 4:30 PM Closed Session / 6:00 PM 
 Open Session <br>District Administration Center<br>3699 N. Holly Avenue\, 
 Baldwin Park\, CA 91706<br>https://www.bpusd.net/apps/pages/BoardMeetings<
 br>\n<a href=' https://www.bpusd.net/apps/events/35656176/'>Read more</a>
URL:https://www.bpusd.net/apps/events/35656176/
ORGANIZER;CN="Edlio Calendar":MAILTO:noreply@www.bpusd.net
DTSTAMP:20260420T122849Z
END:VEVENT
BEGIN:VEVENT
UID:35935116@www.bpusd.net#20260210
SEQUENCE:0
CREATED:20260126T223704Z
LAST-MODIFIED:20260126T223704Z
DTSTART;TZID=US/Pacific:20260210T180000
DTEND;TZID=US/Pacific:20260210T190000
SUMMARY:Regular Meeting of the Board of Education
CATEGORIES:Upcoming Events
DESCRIPTION:Tuesday\, February 10\, 2026 @ 4:00 PM Closed Session / 6:00 PM
  Open Session <br>Regular Meeting<br>District Administration Center<br>369
 9 N. Holly Avenue\, Baldwin Park\, CA 91706<br>https://www.bpusd.net/apps/
 pages/BoardMeetings \n<a href=' https://www.bpusd.net/apps/events/35935116
 /'>Read more</a>
URL:https://www.bpusd.net/apps/events/35935116/
ORGANIZER;CN="Edlio Calendar":MAILTO:noreply@www.bpusd.net
DTSTAMP:20260420T122849Z
END:VEVENT
BEGIN:VEVENT
UID:35935117@www.bpusd.net#20260224
SEQUENCE:0
CREATED:20260126T223704Z
LAST-MODIFIED:20260126T223704Z
DTSTART;TZID=US/Pacific:20260224T180000
DTEND;TZID=US/Pacific:20260224T190000
SUMMARY:Regular Meeting of the Board of Education
CATEGORIES:Upcoming Events
DESCRIPTION:Tuesday\, February 24\, 2026 @ 6:00 PM Closed Session / 6:00 PM
  Open Session <br>Regular Meeting<br>District Administration Center<br>369
 9 N. Holly Avenue\, Baldwin Park\, CA 91706<br>https://www.bpusd.net/apps/
 pages/BoardMeetings \n<a href=' https://www.bpusd.net/apps/events/35935117
 /'>Read more</a>
URL:https://www.bpusd.net/apps/events/35935117/
ORGANIZER;CN="Edlio Calendar":MAILTO:noreply@www.bpusd.net
DTSTAMP:20260420T122849Z
END:VEVENT
BEGIN:VEVENT
UID:35284781@www.bpusd.net#20251024
SEQUENCE:0
CREATED:20251120T213706Z
LAST-MODIFIED:20251120T213706Z
DTSTART;TZID=US/Pacific:20251024T183000
DTEND;TZID=US/Pacific:20251024T193000
SUMMARY:SVHS DRAMA FALL PLAY
CATEGORIES:Upcoming Events
DESCRIPTION:Sierra Vista High Drama Fall Play6:30pm at the Performing Arts 
 Center4640 Maine Ave\, Baldwin Park\, CA 91706\n<a href=' https://www.bpus
 d.net/apps/events/35284781/'>Read more</a>
URL:https://www.bpusd.net/apps/events/35284781/
ORGANIZER;CN="Edlio Calendar":MAILTO:noreply@www.bpusd.net
DTSTAMP:20260420T122849Z
END:VEVENT
BEGIN:VEVENT
UID:35284779@www.bpusd.net#20251015
SEQUENCE:0
CREATED:20251120T213706Z
LAST-MODIFIED:20251120T213706Z
DTSTART;TZID=US/Pacific:20251015T190000
DTEND;TZID=US/Pacific:20251015T200000
SUMMARY:BPHS CHOIR FALL CONCERT
CATEGORIES:Upcoming Events
DESCRIPTION:Baldwin Park High Choir Fall Concert7:00 pm at the Performing A
 rts Center4640 Maine Ave\, Baldwin Park\, CA 91706\n<a href=' https://www.
 bpusd.net/apps/events/35284779/'>Read more</a>
URL:https://www.bpusd.net/apps/events/35284779/
ORGANIZER;CN="Edlio Calendar":MAILTO:noreply@www.bpusd.net
DTSTAMP:20260420T122849Z
END:VEVENT
BEGIN:VEVENT
UID:35284778@www.bpusd.net#20251013
SEQUENCE:0
CREATED:20251120T213706Z
LAST-MODIFIED:20251120T213706Z
DTSTART;TZID=US/Pacific:20251013T190000
DTEND;TZID=US/Pacific:20251013T200000
SUMMARY:SVHS CHOIR FALL CONCERT
CATEGORIES:Upcoming Events
DESCRIPTION:Sierra Vista High Choir Fall Concert7:00 pm at the Performing A
 rts Center4640 Maine Ave\, Baldwin Park\, CA 91706\n<a href=' https://www.
 bpusd.net/apps/events/35284778/'>Read more</a>
URL:https://www.bpusd.net/apps/events/35284778/
ORGANIZER;CN="Edlio Calendar":MAILTO:noreply@www.bpusd.net
DTSTAMP:20260420T122849Z
END:VEVENT
END:VCALENDAR
